BEGIN:VCALENDAR
PRODID;X-RICAL-TZSOURCE=TZINFO:dalgau.fliptable.ru
CALSCALE:GREGORIAN
VERSION:2.0
BEGIN:VTIMEZONE
TZID;X-RICAL-TZSOURCE=TZINFO:Asia/Yakutsk
BEGIN:STANDARD
DTSTART:20141026T020000
RDATE:20141026T020000
TZOFFSETFROM:+1000
TZOFFSETTO:+0900
TZNAME:+09
END:STANDARD
END:VTIMEZONE
BEGIN:VEVENT
DTEND;TZID=Asia/Yakutsk;VALUE=DATE-TIME:20260420T130000
DTSTART;TZID=Asia/Yakutsk;VALUE=DATE-TIME:20260420T113000
DESCRIPTION: \, 2-5224
SUMMARY:Цитология\, гистология и эмбриология
LOCATION:58а (№5)
END:VEVENT
BEGIN:VEVENT
DTEND;TZID=Asia/Yakutsk;VALUE=DATE-TIME:20260421T111500
DTSTART;TZID=Asia/Yakutsk;VALUE=DATE-TIME:20260421T094500
DESCRIPTION: \, 2-5224
SUMMARY:Цитология\, гистология и эмбриология
LOCATION:58а (№5)
END:VEVENT
BEGIN:VEVENT
DTEND;TZID=Asia/Yakutsk;VALUE=DATE-TIME:20260421T130000
DTSTART;TZID=Asia/Yakutsk;VALUE=DATE-TIME:20260421T113000
DESCRIPTION: \, 2-5225
SUMMARY:Анатомия животных
LOCATION:50а (№5)
END:VEVENT
BEGIN:VEVENT
DTEND;TZID=Asia/Yakutsk;VALUE=DATE-TIME:20260421T153000
DTSTART;TZID=Asia/Yakutsk;VALUE=DATE-TIME:20260421T140000
DESCRIPTION: \, 2-5225
SUMMARY:Анатомия животных
LOCATION:50а (№5)
END:VEVENT
BEGIN:VEVENT
DTEND;TZID=Asia/Yakutsk;VALUE=DATE-TIME:20260423T130000
DTSTART;TZID=Asia/Yakutsk;VALUE=DATE-TIME:20260423T113000
DESCRIPTION: \, 2-5215
SUMMARY:Анатомия животных
LOCATION:50а (№5)
END:VEVENT
BEGIN:VEVENT
DTEND;TZID=Asia/Yakutsk;VALUE=DATE-TIME:20260428T130000
DTSTART;TZID=Asia/Yakutsk;VALUE=DATE-TIME:20260428T113000
DESCRIPTION: \, 2-5215
SUMMARY:Анатомия животных
LOCATION:50а (№5)
END:VEVENT
BEGIN:VEVENT
DTEND;TZID=Asia/Yakutsk;VALUE=DATE-TIME:20260428T153000
DTSTART;TZID=Asia/Yakutsk;VALUE=DATE-TIME:20260428T140000
DESCRIPTION: \, 2-5215
SUMMARY:Анатомия животных
LOCATION:50а (№5)
END:VEVENT
BEGIN:VEVENT
DTEND;TZID=Asia/Yakutsk;VALUE=DATE-TIME:20260430T111500
DTSTART;TZID=Asia/Yakutsk;VALUE=DATE-TIME:20260430T094500
DESCRIPTION: \, 2-5224
SUMMARY:Цитология\, гистология и эмбриология
LOCATION:58а (№5)
END:VEVENT
BEGIN:VEVENT
DTEND;TZID=Asia/Yakutsk;VALUE=DATE-TIME:20260430T130000
DTSTART;TZID=Asia/Yakutsk;VALUE=DATE-TIME:20260430T113000
DESCRIPTION: \, 2-5225
SUMMARY:Анатомия животных
LOCATION:50а (№5)
END:VEVENT
BEGIN:VEVENT
DTEND;TZID=Asia/Yakutsk;VALUE=DATE-TIME:20260504T130000
DTSTART;TZID=Asia/Yakutsk;VALUE=DATE-TIME:20260504T113000
DESCRIPTION: \, 2-5224
SUMMARY:Цитология\, гистология и эмбриология
LOCATION:58а (№5)
END:VEVENT
BEGIN:VEVENT
DTEND;TZID=Asia/Yakutsk;VALUE=DATE-TIME:20260505T111500
DTSTART;TZID=Asia/Yakutsk;VALUE=DATE-TIME:20260505T094500
DESCRIPTION: \, 2-5224
SUMMARY:Цитология\, гистология и эмбриология
LOCATION:58а (№5)
END:VEVENT
BEGIN:VEVENT
DTEND;TZID=Asia/Yakutsk;VALUE=DATE-TIME:20260505T130000
DTSTART;TZID=Asia/Yakutsk;VALUE=DATE-TIME:20260505T113000
DESCRIPTION: \, 2-5225
SUMMARY:Анатомия животных
LOCATION:50а (№5)
END:VEVENT
BEGIN:VEVENT
DTEND;TZID=Asia/Yakutsk;VALUE=DATE-TIME:20260505T153000
DTSTART;TZID=Asia/Yakutsk;VALUE=DATE-TIME:20260505T140000
DESCRIPTION: \, 2-5225
SUMMARY:Анатомия животных
LOCATION:50а (№5)
END:VEVENT
BEGIN:VEVENT
DTEND;TZID=Asia/Yakutsk;VALUE=DATE-TIME:20260507T130000
DTSTART;TZID=Asia/Yakutsk;VALUE=DATE-TIME:20260507T113000
DESCRIPTION: \, 2-5215
SUMMARY:Анатомия животных
LOCATION:50а (№5)
END:VEVENT
BEGIN:VEVENT
DTEND;TZID=Asia/Yakutsk;VALUE=DATE-TIME:20260512T130000
DTSTART;TZID=Asia/Yakutsk;VALUE=DATE-TIME:20260512T113000
DESCRIPTION: \, 2-5215
SUMMARY:Анатомия животных
LOCATION:50а (№5)
END:VEVENT
BEGIN:VEVENT
DTEND;TZID=Asia/Yakutsk;VALUE=DATE-TIME:20260512T153000
DTSTART;TZID=Asia/Yakutsk;VALUE=DATE-TIME:20260512T140000
DESCRIPTION: \, 2-5215
SUMMARY:Анатомия животных
LOCATION:50а (№5)
END:VEVENT
BEGIN:VEVENT
DTEND;TZID=Asia/Yakutsk;VALUE=DATE-TIME:20260514T111500
DTSTART;TZID=Asia/Yakutsk;VALUE=DATE-TIME:20260514T094500
DESCRIPTION: \, 2-5224
SUMMARY:Цитология\, гистология и эмбриология
LOCATION:58а (№5)
END:VEVENT
BEGIN:VEVENT
DTEND;TZID=Asia/Yakutsk;VALUE=DATE-TIME:20260514T130000
DTSTART;TZID=Asia/Yakutsk;VALUE=DATE-TIME:20260514T113000
DESCRIPTION: \, 2-5225
SUMMARY:Анатомия животных
LOCATION:50а (№5)
END:VEVENT
BEGIN:VEVENT
DTEND;TZID=Asia/Yakutsk;VALUE=DATE-TIME:20260515T130000
DTSTART;TZID=Asia/Yakutsk;VALUE=DATE-TIME:20260515T113000
DESCRIPTION: \, 2-5224
SUMMARY:Цитология\, гистология и эмбриология
LOCATION:58а (№5)
END:VEVENT
BEGIN:VEVENT
DTEND;TZID=Asia/Yakutsk;VALUE=DATE-TIME:20260518T130000
DTSTART;TZID=Asia/Yakutsk;VALUE=DATE-TIME:20260518T113000
DESCRIPTION: \, 2-5224
SUMMARY:Цитология\, гистология и эмбриология
LOCATION:58а (№5)
END:VEVENT
BEGIN:VEVENT
DTEND;TZID=Asia/Yakutsk;VALUE=DATE-TIME:20260519T111500
DTSTART;TZID=Asia/Yakutsk;VALUE=DATE-TIME:20260519T094500
DESCRIPTION: \, 2-5224
SUMMARY:Цитология\, гистология и эмбриология
LOCATION:58а (№5)
END:VEVENT
BEGIN:VEVENT
DTEND;TZID=Asia/Yakutsk;VALUE=DATE-TIME:20260519T130000
DTSTART;TZID=Asia/Yakutsk;VALUE=DATE-TIME:20260519T113000
DESCRIPTION: \, 2-5225
SUMMARY:Анатомия животных
LOCATION:50а (№5)
END:VEVENT
BEGIN:VEVENT
DTEND;TZID=Asia/Yakutsk;VALUE=DATE-TIME:20260519T153000
DTSTART;TZID=Asia/Yakutsk;VALUE=DATE-TIME:20260519T140000
DESCRIPTION: \, 2-5225
SUMMARY:Анатомия животных
LOCATION:50а (№5)
END:VEVENT
BEGIN:VEVENT
DTEND;TZID=Asia/Yakutsk;VALUE=DATE-TIME:20260521T130000
DTSTART;TZID=Asia/Yakutsk;VALUE=DATE-TIME:20260521T113000
DESCRIPTION: \, 2-5215
SUMMARY:Анатомия животных
LOCATION:50а (№5)
END:VEVENT
BEGIN:VEVENT
DTEND;TZID=Asia/Yakutsk;VALUE=DATE-TIME:20260526T130000
DTSTART;TZID=Asia/Yakutsk;VALUE=DATE-TIME:20260526T113000
DESCRIPTION: \, 2-5215
SUMMARY:Анатомия животных
LOCATION:50а (№5)
END:VEVENT
BEGIN:VEVENT
DTEND;TZID=Asia/Yakutsk;VALUE=DATE-TIME:20260526T153000
DTSTART;TZID=Asia/Yakutsk;VALUE=DATE-TIME:20260526T140000
DESCRIPTION: \, 2-5215
SUMMARY:Анатомия животных
LOCATION:50а (№5)
END:VEVENT
BEGIN:VEVENT
DTEND;TZID=Asia/Yakutsk;VALUE=DATE-TIME:20260528T130000
DTSTART;TZID=Asia/Yakutsk;VALUE=DATE-TIME:20260528T113000
DESCRIPTION: \, 2-5225
SUMMARY:Анатомия животных
LOCATION:50а (№5)
END:VEVENT
BEGIN:VEVENT
DTEND;TZID=Asia/Yakutsk;VALUE=DATE-TIME:20260602T130000
DTSTART;TZID=Asia/Yakutsk;VALUE=DATE-TIME:20260602T113000
DESCRIPTION: \, 2-5225
SUMMARY:Анатомия животных
LOCATION:50а (№5)
END:VEVENT
BEGIN:VEVENT
DTEND;TZID=Asia/Yakutsk;VALUE=DATE-TIME:20260602T153000
DTSTART;TZID=Asia/Yakutsk;VALUE=DATE-TIME:20260602T140000
DESCRIPTION: \, 2-5225
SUMMARY:Анатомия животных
LOCATION:50а (№5)
END:VEVENT
BEGIN:VEVENT
DTEND;TZID=Asia/Yakutsk;VALUE=DATE-TIME:20260604T130000
DTSTART;TZID=Asia/Yakutsk;VALUE=DATE-TIME:20260604T113000
DESCRIPTION: \, 2-5215
SUMMARY:Анатомия животных
LOCATION:50а (№5)
END:VEVENT
END:VCALENDAR
